BEGIN:VCALENDAR
VERSION:2.0
PRODID:-//Seelze City News - ECPv6.15.16.1//NONSGML v1.0//EN
CALSCALE:GREGORIAN
METHOD:PUBLISH
X-ORIGINAL-URL:https://seelze.citynews-online.de
X-WR-CALDESC:Veranstaltungen für Seelze City News
REFRESH-INTERVAL;VALUE=DURATION:PT1H
X-Robots-Tag:noindex
X-PUBLISHED-TTL:PT1H
BEGIN:VTIMEZONE
TZID:Europe/Berlin
BEGIN:DAYLIGHT
TZOFFSETFROM:+0100
TZOFFSETTO:+0200
TZNAME:CEST
DTSTART:20230326T010000
END:DAYLIGHT
BEGIN:STANDARD
TZOFFSETFROM:+0200
TZOFFSETTO:+0100
TZNAME:CET
DTSTART:20231029T010000
END:STANDARD
BEGIN:DAYLIGHT
TZOFFSETFROM:+0100
TZOFFSETTO:+0200
TZNAME:CEST
DTSTART:20240331T010000
END:DAYLIGHT
BEGIN:STANDARD
TZOFFSETFROM:+0200
TZOFFSETTO:+0100
TZNAME:CET
DTSTART:20241027T010000
END:STANDARD
BEGIN:DAYLIGHT
TZOFFSETFROM:+0100
TZOFFSETTO:+0200
TZNAME:CEST
DTSTART:20250330T010000
END:DAYLIGHT
BEGIN:STANDARD
TZOFFSETFROM:+0200
TZOFFSETTO:+0100
TZNAME:CET
DTSTART:20251026T010000
END:STANDARD
END:VTIMEZONE
BEGIN:VEVENT
DTSTART;TZID=Europe/Berlin:20240216T100000
DTEND;TZID=Europe/Berlin:20240216T120000
DTSTAMP:20260419T201332
CREATED:20240126T124354Z
LAST-MODIFIED:20240126T124354Z
UID:10000003-1708077600-1708084800@seelze.citynews-online.de
SUMMARY:Frei nach Jules Verne - Das Theater für Kinder zeigt „Die Reise zum Mittelpunkt der Welt“
DESCRIPTION:Ein fröhlicher Streifzug durch die Abenteuer- und Zukunftsgeschichten von Jules Verne erwartet das Publikum beim nächsten Theater für Kinder: Am Donnerstag\, 15. Februar\, um 9 Uhr und 10.30 Uhr in Garbsen sowie am Freitag\, 16. Februar\, um 10 Uhr und 15 Uhr in Seelze ist \,\,Die Reise zum Mittelpunkt der Welt“ zu sehen. \nFantasievolles Theaterstück nach Jules Verne\nDas Theaterstück erzählt die Geschichte von Professor Lindenbroock und Arne Saggnusson\, zwei ungewöhnlichen Herren\, die auf der Suche nach Weltruhm eine abenteuerliche Forschungsreise unternehmen. Doch anstatt auf herkömmliche Weise zu reisen\, begeben sie sich in die Welt der Fantasie. Mit einem alten Bettgestell\, einem Sonnenschirm und vielen anderen Utensilien fliegen sie zum Mond\, überleben eine Bruchlandung auf dem Mount Everest\, fahren mit siebzig singenden Chinesen in einer Seilbahn und stürzen mit einem Fahrstuhl in die von blinden Alligatoren bevölkerte Kanalisation von Singapur. Sie treiben zahnlos und pfeifend im Stillen Ozean\, singen den „Knistertüten-KnippermannBlues“ in den Tiefen des Mariannen-Grabens\, finden sich im Bauch eines riesigen Wales wieder und werden plötzlich im Inneren eines Vulkans gefangen. \nKooperation der Kulturbüros Garbsen und Seelze\nDas Theater für Kinder ist eine Kooperation der Kulturbüros Garbsen und Seelze sowie der Kulturinitiative Seelze (KiS) und wird von der Region Hannover gefördert. Die Inszenierung von \,\,Die Reise zum Mittelpunkt der Welt“ stammt vom Erfreulichen Theater Erfurt und dem Theater Handmühle. Die Aufführung\, bei der Ronald Mernitz und Tilo Müller auf der Bühne stehen\, dauert etwa 60 Minuten und ist für Kinder ab sieben Jahren geeignet. Der Eintrittspreis beträgt 5 Euro für Kinder und 6 Euro für Erwachsene. \nTickets für die Vorstellungen in der Aula des Schulzentrums I in Garbsen können online unter www.garbsen.de/onlinetickets\, an der Tageskasse oder telefonisch unter (05131) 707650 erworben werden. Reservierungen für die Aufführungen im Veranstaltungszentrum Alter Krug in Seelze nimmt das Kulturbüro der Stadt Seelze unter (05137) 828284 oder per E-Mail an kulturbuero@stadt-seelze.de entgegen. \nDie Tageskasse öffnet jeweils eine halbe Stunde vor Vorstellungsbeginn. Vorbestellte Karten können an der Kasse abgeholt werden und sollten spätestens 15 Minuten vor Beginn abgeholt werden.
URL:https://seelze.citynews-online.de/event/frei-nach-jules-verne-das-theater-fuer-kinder-zeigt-die-reise-zum-mittelpunkt-der-welt/2024-02-16/1/
ATTACH;FMTTYPE=image/jpeg:https://seelze.citynews-online.de/wp-content/uploads/2024/01/PM017_25.01.2024_Frei-nach-Jules-Verne-Das-Theater-fuer-Kinder-zeigt-„Die-Reise-zum-Mittelpunkt-der-Welt-001-Foto-Carlo-Bansini.jpg
END:VEVENT
BEGIN:VEVENT
DTSTART;TZID=Europe/Berlin:20240216T150000
DTEND;TZID=Europe/Berlin:20240216T170000
DTSTAMP:20260419T201332
CREATED:20240126T124354Z
LAST-MODIFIED:20240126T124354Z
UID:10000004-1708095600-1708102800@seelze.citynews-online.de
SUMMARY:Frei nach Jules Verne - Das Theater für Kinder zeigt „Die Reise zum Mittelpunkt der Welt“
DESCRIPTION:Ein fröhlicher Streifzug durch die Abenteuer- und Zukunftsgeschichten von Jules Verne erwartet das Publikum beim nächsten Theater für Kinder: Am Donnerstag\, 15. Februar\, um 9 Uhr und 10.30 Uhr in Garbsen sowie am Freitag\, 16. Februar\, um 10 Uhr und 15 Uhr in Seelze ist \,\,Die Reise zum Mittelpunkt der Welt“ zu sehen. \nFantasievolles Theaterstück nach Jules Verne\nDas Theaterstück erzählt die Geschichte von Professor Lindenbroock und Arne Saggnusson\, zwei ungewöhnlichen Herren\, die auf der Suche nach Weltruhm eine abenteuerliche Forschungsreise unternehmen. Doch anstatt auf herkömmliche Weise zu reisen\, begeben sie sich in die Welt der Fantasie. Mit einem alten Bettgestell\, einem Sonnenschirm und vielen anderen Utensilien fliegen sie zum Mond\, überleben eine Bruchlandung auf dem Mount Everest\, fahren mit siebzig singenden Chinesen in einer Seilbahn und stürzen mit einem Fahrstuhl in die von blinden Alligatoren bevölkerte Kanalisation von Singapur. Sie treiben zahnlos und pfeifend im Stillen Ozean\, singen den „Knistertüten-KnippermannBlues“ in den Tiefen des Mariannen-Grabens\, finden sich im Bauch eines riesigen Wales wieder und werden plötzlich im Inneren eines Vulkans gefangen. \nKooperation der Kulturbüros Garbsen und Seelze\nDas Theater für Kinder ist eine Kooperation der Kulturbüros Garbsen und Seelze sowie der Kulturinitiative Seelze (KiS) und wird von der Region Hannover gefördert. Die Inszenierung von \,\,Die Reise zum Mittelpunkt der Welt“ stammt vom Erfreulichen Theater Erfurt und dem Theater Handmühle. Die Aufführung\, bei der Ronald Mernitz und Tilo Müller auf der Bühne stehen\, dauert etwa 60 Minuten und ist für Kinder ab sieben Jahren geeignet. Der Eintrittspreis beträgt 5 Euro für Kinder und 6 Euro für Erwachsene. \nTickets für die Vorstellungen in der Aula des Schulzentrums I in Garbsen können online unter www.garbsen.de/onlinetickets\, an der Tageskasse oder telefonisch unter (05131) 707650 erworben werden. Reservierungen für die Aufführungen im Veranstaltungszentrum Alter Krug in Seelze nimmt das Kulturbüro der Stadt Seelze unter (05137) 828284 oder per E-Mail an kulturbuero@stadt-seelze.de entgegen. \nDie Tageskasse öffnet jeweils eine halbe Stunde vor Vorstellungsbeginn. Vorbestellte Karten können an der Kasse abgeholt werden und sollten spätestens 15 Minuten vor Beginn abgeholt werden.
URL:https://seelze.citynews-online.de/event/frei-nach-jules-verne-das-theater-fuer-kinder-zeigt-die-reise-zum-mittelpunkt-der-welt/2024-02-16/2/
ATTACH;FMTTYPE=image/jpeg:https://seelze.citynews-online.de/wp-content/uploads/2024/01/PM017_25.01.2024_Frei-nach-Jules-Verne-Das-Theater-fuer-Kinder-zeigt-„Die-Reise-zum-Mittelpunkt-der-Welt-001-Foto-Carlo-Bansini.jpg
END:VEVENT
BEGIN:VEVENT
DTSTART;TZID=Europe/Berlin:20240216T193000
DTEND;TZID=Europe/Berlin:20240216T213000
DTSTAMP:20260419T201332
CREATED:20240205T135001Z
LAST-MODIFIED:20240205T135508Z
UID:10000271-1708111800-1708119000@seelze.citynews-online.de
SUMMARY:Duo Smith & West spielt „Irgendwie die Beatles“ am 16.02.
DESCRIPTION:Das Duo Smith & West kennt die Songs der Beatles wohl so gut wie kaum eine andere Band. \nSeit Jahrzehnten interpretieren die Musiker die Hits der vier Liverpooler – und sind mit „Irgendwie die Beatles“ am Freitag\, 16. Februar\, um 19.30 Uhr im Veranstaltungszentrum Alter Krug zu Gast. \nSmith & West alias Uli Schmid und Michael J. Westphal erzählen dem Publikum von ihren musikalischen Anfängen\, von inspirierenden Begegnungen in Frankreich\, von Heimatbesuchen bei Tante Anneliese im Pfennigsmoorweg zwischen den Erdbeerfeldern oder ihren Erlebnissen in Hamburger Absteigen und Hinterhofspelunken. \nDenn: Zu Beginn der 1960er-Jahre spielte das Duo in verschiedenen Hamburger Clubs und erlebte dort eine aufregende Zeit. Doch eine Begegnung mit der Liverpooler Band\, die ebenfalls in Hamburg ihre ersten Schritte zur Weltkarriere machte\, ergab sich nie. Trotzdem sind beide Bands enger miteinander verbunden\, als zu vermuten wäre. Stück für Stück lüften Smith & West im Laufe des 30 Songs währenden Abends ihr Geheimnis. \nDas Konzert von Smith & West wird von der Kulturinitiative Seelze (KiS) und vom städtischen Kulturbüro organisiert. Die Karten kosten 20 Euro und sind in der Buchhandlung Petri & Waller\, Hannoversche Straße 13 a\, oder im Internet über den Ticket-Anbieter Eventim erhältlich. Der Einlass in den Saal des Veranstaltungszentrums Alter Krug\, Hannoversche Straße 15a\, beginnt gegen 19 Uhr. Die Plätze sind nicht nummeriert. Das Jahresprogramm der der Kulturinitiative Seelze (KiS) liegt unter anderem im Rathaus Seelze\, der Stadtbibliothek Seelze und in vielen Geschäften aus. Zudem ist es im Internet auf der Seite www.kis-seelze.de verfügbar.
URL:https://seelze.citynews-online.de/event/duo-smith-west-spielt-irgendwie-die-beatles-am-16-02/
LOCATION:Veranstaltungszentrum Alter Krug\, Hannoversche Straße 15a\, Seelze\, 30926\, Deutschland
ATTACH;FMTTYPE=image/jpeg:https://seelze.citynews-online.de/wp-content/uploads/2024/02/PM020_05.02.2024_Das-Duo-Smith-West-spielt-„Irgendwie-die-Beatles-01-scaled.jpg
END:VEVENT
END:VCALENDAR