BEGIN:VCALENDAR
VERSION:2.0
PRODID:-//Seelze City News - ECPv6.15.16.1//NONSGML v1.0//EN
CALSCALE:GREGORIAN
METHOD:PUBLISH
X-WR-CALNAME:Seelze City News
X-ORIGINAL-URL:https://seelze.citynews-online.de
X-WR-CALDESC:Veranstaltungen für Seelze City News
REFRESH-INTERVAL;VALUE=DURATION:PT1H
X-Robots-Tag:noindex
X-PUBLISHED-TTL:PT1H
BEGIN:VTIMEZONE
TZID:Europe/Berlin
BEGIN:DAYLIGHT
TZOFFSETFROM:+0100
TZOFFSETTO:+0200
TZNAME:CEST
DTSTART:20230326T010000
END:DAYLIGHT
BEGIN:STANDARD
TZOFFSETFROM:+0200
TZOFFSETTO:+0100
TZNAME:CET
DTSTART:20231029T010000
END:STANDARD
BEGIN:DAYLIGHT
TZOFFSETFROM:+0100
TZOFFSETTO:+0200
TZNAME:CEST
DTSTART:20240331T010000
END:DAYLIGHT
BEGIN:STANDARD
TZOFFSETFROM:+0200
TZOFFSETTO:+0100
TZNAME:CET
DTSTART:20241027T010000
END:STANDARD
BEGIN:DAYLIGHT
TZOFFSETFROM:+0100
TZOFFSETTO:+0200
TZNAME:CEST
DTSTART:20250330T010000
END:DAYLIGHT
BEGIN:STANDARD
TZOFFSETFROM:+0200
TZOFFSETTO:+0100
TZNAME:CET
DTSTART:20251026T010000
END:STANDARD
END:VTIMEZONE
BEGIN:VEVENT
DTSTART;TZID=Europe/Berlin:20240309T100000
DTEND;TZID=Europe/Berlin:20240309T100000
DTSTAMP:20260419T183511
CREATED:20240306T132101Z
LAST-MODIFIED:20240306T132101Z
UID:10000278-1709978400-1709978400@seelze.citynews-online.de
SUMMARY:Aufräumaktion in Velber am 09.03.2024 - Sauberkeitstage in Seelzer Ortsteilen
DESCRIPTION:Treffen ist am KulTurm in der Hasselfeldstraße 1. Als Dankeschön wird es nach getaner Arbeit eine kleine Stärkung vom Ortsrat geben.
URL:https://seelze.citynews-online.de/event/aufraeumaktion-in-velber-am-09-03-2024-sauberkeitstage-in-seelzer-ortsteilen/
LOCATION:KulTurm\, Hasselfeldstraße 1\, Seelze
END:VEVENT
END:VCALENDAR