BEGIN:VCALENDAR
VERSION:2.0
PRODID:-//Seelze City News - ECPv6.15.16.1//NONSGML v1.0//EN
CALSCALE:GREGORIAN
METHOD:PUBLISH
X-ORIGINAL-URL:https://seelze.citynews-online.de
X-WR-CALDESC:Veranstaltungen für Seelze City News
REFRESH-INTERVAL;VALUE=DURATION:PT1H
X-Robots-Tag:noindex
X-PUBLISHED-TTL:PT1H
BEGIN:VTIMEZONE
TZID:Europe/Berlin
BEGIN:DAYLIGHT
TZOFFSETFROM:+0100
TZOFFSETTO:+0200
TZNAME:CEST
DTSTART:20230326T010000
END:DAYLIGHT
BEGIN:STANDARD
TZOFFSETFROM:+0200
TZOFFSETTO:+0100
TZNAME:CET
DTSTART:20231029T010000
END:STANDARD
BEGIN:DAYLIGHT
TZOFFSETFROM:+0100
TZOFFSETTO:+0200
TZNAME:CEST
DTSTART:20240331T010000
END:DAYLIGHT
BEGIN:STANDARD
TZOFFSETFROM:+0200
TZOFFSETTO:+0100
TZNAME:CET
DTSTART:20241027T010000
END:STANDARD
BEGIN:DAYLIGHT
TZOFFSETFROM:+0100
TZOFFSETTO:+0200
TZNAME:CEST
DTSTART:20250330T010000
END:DAYLIGHT
BEGIN:STANDARD
TZOFFSETFROM:+0200
TZOFFSETTO:+0100
TZNAME:CET
DTSTART:20251026T010000
END:STANDARD
END:VTIMEZONE
BEGIN:VEVENT
DTSTART;TZID=Europe/Berlin:20240206T080000
DTEND;TZID=Europe/Berlin:20240206T130000
DTSTAMP:20260419T184005
CREATED:20240129T152132Z
LAST-MODIFIED:20240129T152132Z
UID:10000011-1707206400-1707224400@seelze.citynews-online.de
SUMMARY:Wochenmarkt in Seelze am Dienstag
DESCRIPTION:Immer dienstags gibt es hier Obst\, Gemüse\, Wurstspezialitäten\, Blumen etc. \nAn Feiertagen fällt der Markt aus oder wird ggf. verlegt. \n  \n 
URL:https://seelze.citynews-online.de/event/wochenmarkt-in-seelze-am-dienstag/2024-02-06/
LOCATION:Am Kreuzweg\, Am Kreuzweg\, Seelze
ATTACH;FMTTYPE=image/jpeg:https://seelze.citynews-online.de/wp-content/uploads/2024/01/radish-2966482_1280.jpg
END:VEVENT
BEGIN:VEVENT
DTSTART;TZID=Europe/Berlin:20240208T160000
DTEND;TZID=Europe/Berlin:20240208T180000
DTSTAMP:20260419T184005
CREATED:20240124T215657Z
LAST-MODIFIED:20240126T081158Z
UID:10000002-1707408000-1707415200@seelze.citynews-online.de
SUMMARY:Bürgermeister Alexander Masthoff vor Ort in Dedensen am 08.02.2024
DESCRIPTION:Am Donnerstag\, 08. Februar\, geht die Tour von Bürgermeister Alexander Masthoff durch die elf Seelzer Stadtteile weiter. \nBürgermeister Alexander Masthoff – Vor-Ort-Sprechstunde in Dedensen\nAlle Bürger*innen sind herzlich eingeladen sich mit Alexander Masthoff zu treffen und ihre Anliegen unmittelbar mit ihm zu besprechen. Ortsbürgermeisterin Heike Duve-Diekmann ist bei dem Termin auch dabei. \nSollte sich das Wetter eignen und nach den Gesprächen noch Zeit sein\, möchten Alexander Masthoff und Heike Duve-Diekmann einen Spaziergang durch Dedensen anbieten. \nMit der Sprechstunde vor Ort möchte Alexander Masthoff in direkten Austausch mit den Bürger*innen treten und stellt sich offen ihren Fragen\, Wünschen und Anregungen. Bei den Besuchen vor Ort möchte er zielgerichtet auf die Bedürfnisse in den einzelnen Ortsteilen eingehen. \nBitte Anmeldung\nDamit Fragen zu komplexen Themen besser vorbereitet werden können und eine adäquate Antwort möglich ist\, bittet Alexander Masthoff um eine vorherige Anmeldung unter der Telefonnummer (05137)828 – 103 mit einer ersten Angabe zum gewünschten Gesprächsthema. Für alle Kurzentschlossenen ist eine spontane Teilnahme an dem Austausch natürlich trotzdem möglich. \nSCN/aw
URL:https://seelze.citynews-online.de/event/buergermeister-alexander-masthoff-vor-ort-in-dedensen-am-08-02-2024/
LOCATION:Gemeindehaus der Ev-Luth. Kirchengemeinde Dedensen\, Altes Dorf 28\, Seelze\, 30926\, Deutschland
ATTACH;FMTTYPE=image/jpeg:https://seelze.citynews-online.de/wp-content/uploads/2024/01/DSC01335-1.jpg
END:VEVENT
BEGIN:VEVENT
DTSTART;TZID=Europe/Berlin:20240213T080000
DTEND;TZID=Europe/Berlin:20240213T130000
DTSTAMP:20260419T184005
CREATED:20240129T152132Z
LAST-MODIFIED:20240129T152132Z
UID:10000012-1707811200-1707829200@seelze.citynews-online.de
SUMMARY:Wochenmarkt in Seelze am Dienstag
DESCRIPTION:Immer dienstags gibt es hier Obst\, Gemüse\, Wurstspezialitäten\, Blumen etc. \nAn Feiertagen fällt der Markt aus oder wird ggf. verlegt. \n  \n 
URL:https://seelze.citynews-online.de/event/wochenmarkt-in-seelze-am-dienstag/2024-02-13/
LOCATION:Am Kreuzweg\, Am Kreuzweg\, Seelze
ATTACH;FMTTYPE=image/jpeg:https://seelze.citynews-online.de/wp-content/uploads/2024/01/radish-2966482_1280.jpg
END:VEVENT
BEGIN:VEVENT
DTSTART;TZID=Europe/Berlin:20240216T100000
DTEND;TZID=Europe/Berlin:20240216T120000
DTSTAMP:20260419T184005
CREATED:20240126T124354Z
LAST-MODIFIED:20240126T124354Z
UID:10000003-1708077600-1708084800@seelze.citynews-online.de
SUMMARY:Frei nach Jules Verne - Das Theater für Kinder zeigt „Die Reise zum Mittelpunkt der Welt“
DESCRIPTION:Ein fröhlicher Streifzug durch die Abenteuer- und Zukunftsgeschichten von Jules Verne erwartet das Publikum beim nächsten Theater für Kinder: Am Donnerstag\, 15. Februar\, um 9 Uhr und 10.30 Uhr in Garbsen sowie am Freitag\, 16. Februar\, um 10 Uhr und 15 Uhr in Seelze ist \,\,Die Reise zum Mittelpunkt der Welt“ zu sehen. \nFantasievolles Theaterstück nach Jules Verne\nDas Theaterstück erzählt die Geschichte von Professor Lindenbroock und Arne Saggnusson\, zwei ungewöhnlichen Herren\, die auf der Suche nach Weltruhm eine abenteuerliche Forschungsreise unternehmen. Doch anstatt auf herkömmliche Weise zu reisen\, begeben sie sich in die Welt der Fantasie. Mit einem alten Bettgestell\, einem Sonnenschirm und vielen anderen Utensilien fliegen sie zum Mond\, überleben eine Bruchlandung auf dem Mount Everest\, fahren mit siebzig singenden Chinesen in einer Seilbahn und stürzen mit einem Fahrstuhl in die von blinden Alligatoren bevölkerte Kanalisation von Singapur. Sie treiben zahnlos und pfeifend im Stillen Ozean\, singen den „Knistertüten-KnippermannBlues“ in den Tiefen des Mariannen-Grabens\, finden sich im Bauch eines riesigen Wales wieder und werden plötzlich im Inneren eines Vulkans gefangen. \nKooperation der Kulturbüros Garbsen und Seelze\nDas Theater für Kinder ist eine Kooperation der Kulturbüros Garbsen und Seelze sowie der Kulturinitiative Seelze (KiS) und wird von der Region Hannover gefördert. Die Inszenierung von \,\,Die Reise zum Mittelpunkt der Welt“ stammt vom Erfreulichen Theater Erfurt und dem Theater Handmühle. Die Aufführung\, bei der Ronald Mernitz und Tilo Müller auf der Bühne stehen\, dauert etwa 60 Minuten und ist für Kinder ab sieben Jahren geeignet. Der Eintrittspreis beträgt 5 Euro für Kinder und 6 Euro für Erwachsene. \nTickets für die Vorstellungen in der Aula des Schulzentrums I in Garbsen können online unter www.garbsen.de/onlinetickets\, an der Tageskasse oder telefonisch unter (05131) 707650 erworben werden. Reservierungen für die Aufführungen im Veranstaltungszentrum Alter Krug in Seelze nimmt das Kulturbüro der Stadt Seelze unter (05137) 828284 oder per E-Mail an kulturbuero@stadt-seelze.de entgegen. \nDie Tageskasse öffnet jeweils eine halbe Stunde vor Vorstellungsbeginn. Vorbestellte Karten können an der Kasse abgeholt werden und sollten spätestens 15 Minuten vor Beginn abgeholt werden.
URL:https://seelze.citynews-online.de/event/frei-nach-jules-verne-das-theater-fuer-kinder-zeigt-die-reise-zum-mittelpunkt-der-welt/2024-02-16/1/
ATTACH;FMTTYPE=image/jpeg:https://seelze.citynews-online.de/wp-content/uploads/2024/01/PM017_25.01.2024_Frei-nach-Jules-Verne-Das-Theater-fuer-Kinder-zeigt-„Die-Reise-zum-Mittelpunkt-der-Welt-001-Foto-Carlo-Bansini.jpg
END:VEVENT
BEGIN:VEVENT
DTSTART;TZID=Europe/Berlin:20240216T150000
DTEND;TZID=Europe/Berlin:20240216T170000
DTSTAMP:20260419T184005
CREATED:20240126T124354Z
LAST-MODIFIED:20240126T124354Z
UID:10000004-1708095600-1708102800@seelze.citynews-online.de
SUMMARY:Frei nach Jules Verne - Das Theater für Kinder zeigt „Die Reise zum Mittelpunkt der Welt“
DESCRIPTION:Ein fröhlicher Streifzug durch die Abenteuer- und Zukunftsgeschichten von Jules Verne erwartet das Publikum beim nächsten Theater für Kinder: Am Donnerstag\, 15. Februar\, um 9 Uhr und 10.30 Uhr in Garbsen sowie am Freitag\, 16. Februar\, um 10 Uhr und 15 Uhr in Seelze ist \,\,Die Reise zum Mittelpunkt der Welt“ zu sehen. \nFantasievolles Theaterstück nach Jules Verne\nDas Theaterstück erzählt die Geschichte von Professor Lindenbroock und Arne Saggnusson\, zwei ungewöhnlichen Herren\, die auf der Suche nach Weltruhm eine abenteuerliche Forschungsreise unternehmen. Doch anstatt auf herkömmliche Weise zu reisen\, begeben sie sich in die Welt der Fantasie. Mit einem alten Bettgestell\, einem Sonnenschirm und vielen anderen Utensilien fliegen sie zum Mond\, überleben eine Bruchlandung auf dem Mount Everest\, fahren mit siebzig singenden Chinesen in einer Seilbahn und stürzen mit einem Fahrstuhl in die von blinden Alligatoren bevölkerte Kanalisation von Singapur. Sie treiben zahnlos und pfeifend im Stillen Ozean\, singen den „Knistertüten-KnippermannBlues“ in den Tiefen des Mariannen-Grabens\, finden sich im Bauch eines riesigen Wales wieder und werden plötzlich im Inneren eines Vulkans gefangen. \nKooperation der Kulturbüros Garbsen und Seelze\nDas Theater für Kinder ist eine Kooperation der Kulturbüros Garbsen und Seelze sowie der Kulturinitiative Seelze (KiS) und wird von der Region Hannover gefördert. Die Inszenierung von \,\,Die Reise zum Mittelpunkt der Welt“ stammt vom Erfreulichen Theater Erfurt und dem Theater Handmühle. Die Aufführung\, bei der Ronald Mernitz und Tilo Müller auf der Bühne stehen\, dauert etwa 60 Minuten und ist für Kinder ab sieben Jahren geeignet. Der Eintrittspreis beträgt 5 Euro für Kinder und 6 Euro für Erwachsene. \nTickets für die Vorstellungen in der Aula des Schulzentrums I in Garbsen können online unter www.garbsen.de/onlinetickets\, an der Tageskasse oder telefonisch unter (05131) 707650 erworben werden. Reservierungen für die Aufführungen im Veranstaltungszentrum Alter Krug in Seelze nimmt das Kulturbüro der Stadt Seelze unter (05137) 828284 oder per E-Mail an kulturbuero@stadt-seelze.de entgegen. \nDie Tageskasse öffnet jeweils eine halbe Stunde vor Vorstellungsbeginn. Vorbestellte Karten können an der Kasse abgeholt werden und sollten spätestens 15 Minuten vor Beginn abgeholt werden.
URL:https://seelze.citynews-online.de/event/frei-nach-jules-verne-das-theater-fuer-kinder-zeigt-die-reise-zum-mittelpunkt-der-welt/2024-02-16/2/
ATTACH;FMTTYPE=image/jpeg:https://seelze.citynews-online.de/wp-content/uploads/2024/01/PM017_25.01.2024_Frei-nach-Jules-Verne-Das-Theater-fuer-Kinder-zeigt-„Die-Reise-zum-Mittelpunkt-der-Welt-001-Foto-Carlo-Bansini.jpg
END:VEVENT
BEGIN:VEVENT
DTSTART;TZID=Europe/Berlin:20240216T193000
DTEND;TZID=Europe/Berlin:20240216T213000
DTSTAMP:20260419T184005
CREATED:20240205T135001Z
LAST-MODIFIED:20240205T135508Z
UID:10000271-1708111800-1708119000@seelze.citynews-online.de
SUMMARY:Duo Smith & West spielt „Irgendwie die Beatles“ am 16.02.
DESCRIPTION:Das Duo Smith & West kennt die Songs der Beatles wohl so gut wie kaum eine andere Band. \nSeit Jahrzehnten interpretieren die Musiker die Hits der vier Liverpooler – und sind mit „Irgendwie die Beatles“ am Freitag\, 16. Februar\, um 19.30 Uhr im Veranstaltungszentrum Alter Krug zu Gast. \nSmith & West alias Uli Schmid und Michael J. Westphal erzählen dem Publikum von ihren musikalischen Anfängen\, von inspirierenden Begegnungen in Frankreich\, von Heimatbesuchen bei Tante Anneliese im Pfennigsmoorweg zwischen den Erdbeerfeldern oder ihren Erlebnissen in Hamburger Absteigen und Hinterhofspelunken. \nDenn: Zu Beginn der 1960er-Jahre spielte das Duo in verschiedenen Hamburger Clubs und erlebte dort eine aufregende Zeit. Doch eine Begegnung mit der Liverpooler Band\, die ebenfalls in Hamburg ihre ersten Schritte zur Weltkarriere machte\, ergab sich nie. Trotzdem sind beide Bands enger miteinander verbunden\, als zu vermuten wäre. Stück für Stück lüften Smith & West im Laufe des 30 Songs währenden Abends ihr Geheimnis. \nDas Konzert von Smith & West wird von der Kulturinitiative Seelze (KiS) und vom städtischen Kulturbüro organisiert. Die Karten kosten 20 Euro und sind in der Buchhandlung Petri & Waller\, Hannoversche Straße 13 a\, oder im Internet über den Ticket-Anbieter Eventim erhältlich. Der Einlass in den Saal des Veranstaltungszentrums Alter Krug\, Hannoversche Straße 15a\, beginnt gegen 19 Uhr. Die Plätze sind nicht nummeriert. Das Jahresprogramm der der Kulturinitiative Seelze (KiS) liegt unter anderem im Rathaus Seelze\, der Stadtbibliothek Seelze und in vielen Geschäften aus. Zudem ist es im Internet auf der Seite www.kis-seelze.de verfügbar.
URL:https://seelze.citynews-online.de/event/duo-smith-west-spielt-irgendwie-die-beatles-am-16-02/
LOCATION:Veranstaltungszentrum Alter Krug\, Hannoversche Straße 15a\, Seelze\, 30926\, Deutschland
ATTACH;FMTTYPE=image/jpeg:https://seelze.citynews-online.de/wp-content/uploads/2024/02/PM020_05.02.2024_Das-Duo-Smith-West-spielt-„Irgendwie-die-Beatles-01-scaled.jpg
END:VEVENT
BEGIN:VEVENT
DTSTART;TZID=Europe/Berlin:20240220T080000
DTEND;TZID=Europe/Berlin:20240220T130000
DTSTAMP:20260419T184005
CREATED:20240129T152132Z
LAST-MODIFIED:20240129T152132Z
UID:10000013-1708416000-1708434000@seelze.citynews-online.de
SUMMARY:Wochenmarkt in Seelze am Dienstag
DESCRIPTION:Immer dienstags gibt es hier Obst\, Gemüse\, Wurstspezialitäten\, Blumen etc. \nAn Feiertagen fällt der Markt aus oder wird ggf. verlegt. \n  \n 
URL:https://seelze.citynews-online.de/event/wochenmarkt-in-seelze-am-dienstag/2024-02-20/
LOCATION:Am Kreuzweg\, Am Kreuzweg\, Seelze
ATTACH;FMTTYPE=image/jpeg:https://seelze.citynews-online.de/wp-content/uploads/2024/01/radish-2966482_1280.jpg
END:VEVENT
BEGIN:VEVENT
DTSTART;TZID=Europe/Berlin:20240222T160000
DTEND;TZID=Europe/Berlin:20240222T180000
DTSTAMP:20260419T184005
CREATED:20240214T102525Z
LAST-MODIFIED:20240214T102525Z
UID:10000273-1708617600-1708624800@seelze.citynews-online.de
SUMMARY:Bürgermeistersprechstunde für Kinder und Jugendliche in Seelze am 22.02.
DESCRIPTION:Am Donnerstag\, 22. Februar\, findet die nächste Jugendsprechstunde \,\,Speak up“ mit Bürgermeister Alexander Masthoff statt. Alle interessierten Kinder und Jugendlichen sind herzlich eingeladen sich von 16-18 Uhr im Jugendbildungshaus Letter mit dem Bürgermeister zu treffen. \nJugendsprechstunde \,\,Speak up“\nUm zu erfahren\, welche Wünsche\, Anliegen und Ideen die Seelzer Kinder und Jugendlichen haben\, lädt Bürgermeister Alexander Masthoff gemeinsam mit dem Team Jugend der Stadt zur Jugendsprechstunde ein. Ob Ideen und Anregungen zum öffentlichen Nahverkehr\, zur Situation in den Schulen und auf den Schulhöfen oder zur Nutzung von Spielplätzen\, Alexander Masthoff hat ein offenes Ohr für die Kinder und Jugendlichen. \nSprechstunde findet in Letter und Seelze statt\nDie Sprechstunde mit dem Bürgermeister findet ab Januar etwa einmal im Monat statt. Dabei wechselt der Veranstaltungsort zwischen dem Jugendbildungshaus (Blaues Haus) Letter\, Klöcknerstraße 15 und im Jugendzentrum Seelze\, Marienwerderallee 1. Die Termine der nächsten \,\,Speak Up“ Jugendsprechstunde werden vorab bekannt gegeben. \nSCN/rw
URL:https://seelze.citynews-online.de/event/buergermeistersprechstunde-fuer-kinder-und-jugendliche-in-seelze-am-22-02/
LOCATION:Jugendbildungshaus Letter\, Klöcknerstraße 15\, Seelze
ATTACH;FMTTYPE=image/jpeg:https://seelze.citynews-online.de/wp-content/uploads/2024/02/PM030_Jugendsprechstunde-Speak-Up.jpg
END:VEVENT
BEGIN:VEVENT
DTSTART;TZID=Europe/Berlin:20240227T080000
DTEND;TZID=Europe/Berlin:20240227T130000
DTSTAMP:20260419T184005
CREATED:20240129T152132Z
LAST-MODIFIED:20240129T152132Z
UID:10000014-1709020800-1709038800@seelze.citynews-online.de
SUMMARY:Wochenmarkt in Seelze am Dienstag
DESCRIPTION:Immer dienstags gibt es hier Obst\, Gemüse\, Wurstspezialitäten\, Blumen etc. \nAn Feiertagen fällt der Markt aus oder wird ggf. verlegt. \n  \n 
URL:https://seelze.citynews-online.de/event/wochenmarkt-in-seelze-am-dienstag/2024-02-27/
LOCATION:Am Kreuzweg\, Am Kreuzweg\, Seelze
ATTACH;FMTTYPE=image/jpeg:https://seelze.citynews-online.de/wp-content/uploads/2024/01/radish-2966482_1280.jpg
END:VEVENT
END:VCALENDAR