BEGIN:VCALENDAR
VERSION:2.0
PRODID:-//Seelze City News - ECPv6.15.16.1//NONSGML v1.0//EN
CALSCALE:GREGORIAN
METHOD:PUBLISH
X-WR-CALNAME:Seelze City News
X-ORIGINAL-URL:https://seelze.citynews-online.de
X-WR-CALDESC:Veranstaltungen für Seelze City News
REFRESH-INTERVAL;VALUE=DURATION:PT1H
X-Robots-Tag:noindex
X-PUBLISHED-TTL:PT1H
BEGIN:VTIMEZONE
TZID:Europe/Berlin
BEGIN:DAYLIGHT
TZOFFSETFROM:+0100
TZOFFSETTO:+0200
TZNAME:CEST
DTSTART:20230326T010000
END:DAYLIGHT
BEGIN:STANDARD
TZOFFSETFROM:+0200
TZOFFSETTO:+0100
TZNAME:CET
DTSTART:20231029T010000
END:STANDARD
BEGIN:DAYLIGHT
TZOFFSETFROM:+0100
TZOFFSETTO:+0200
TZNAME:CEST
DTSTART:20240331T010000
END:DAYLIGHT
BEGIN:STANDARD
TZOFFSETFROM:+0200
TZOFFSETTO:+0100
TZNAME:CET
DTSTART:20241027T010000
END:STANDARD
BEGIN:DAYLIGHT
TZOFFSETFROM:+0100
TZOFFSETTO:+0200
TZNAME:CEST
DTSTART:20250330T010000
END:DAYLIGHT
BEGIN:STANDARD
TZOFFSETFROM:+0200
TZOFFSETTO:+0100
TZNAME:CET
DTSTART:20251026T010000
END:STANDARD
END:VTIMEZONE
BEGIN:VEVENT
DTSTART;TZID=Europe/Berlin:20240402T080000
DTEND;TZID=Europe/Berlin:20240402T130000
DTSTAMP:20260419T151952
CREATED:20240129T152132Z
LAST-MODIFIED:20240129T152132Z
UID:10000019-1712044800-1712062800@seelze.citynews-online.de
SUMMARY:Wochenmarkt in Seelze am Dienstag
DESCRIPTION:Immer dienstags gibt es hier Obst\, Gemüse\, Wurstspezialitäten\, Blumen etc. \nAn Feiertagen fällt der Markt aus oder wird ggf. verlegt. \n  \n 
URL:https://seelze.citynews-online.de/event/wochenmarkt-in-seelze-am-dienstag/2024-04-02/
LOCATION:Am Kreuzweg\, Am Kreuzweg\, Seelze
ATTACH;FMTTYPE=image/jpeg:https://seelze.citynews-online.de/wp-content/uploads/2024/01/radish-2966482_1280.jpg
END:VEVENT
BEGIN:VEVENT
DTSTART;TZID=Europe/Berlin:20240404T160000
DTEND;TZID=Europe/Berlin:20240404T180000
DTSTAMP:20260419T151952
CREATED:20240129T145937Z
LAST-MODIFIED:20240325T093701Z
UID:10000007-1712246400-1712253600@seelze.citynews-online.de
SUMMARY:Bürgermeister Alexander Masthoff vor Ort in Gümmer am 04.04.2024
DESCRIPTION:Am Donnerstag\, 04. April\, geht die Tour von Bürgermeister Alexander Masthoff durch die elf Seelzer Stadtteile weiter. \nBürgermeister Alexander Masthoff – Vor-Ort-Sprechstunde in Gümmer\nAlle Bürger*innen sind herzlich eingeladen sich mit Alexander Masthoff zu treffen und ihre Anliegen unmittelbar mit ihm zu besprechen. \nOrtsbürgermeister Christian Schomburg ist bei dem Termin auch dabei. Sollte sich das Wetter eignen und nach den Gesprächen noch Zeit sein\, möchten Alexander Masthoff und Christian Schomburg einen Spaziergang durch Gümmer anbieten. \nMit der Sprechstunde vor Ort möchte Alexander Masthoff in direkten Austausch mit den Bürger*innen treten und stellt sich offen ihren Fragen\, Wünschen und Anregungen. Bei den Besuchen vor Ort möchte er zielgerichtet auf die Bedürfnisse in den einzelnen Ortsteilen eingehen. \nDamit Fragen zu komplexen Themen besser vorbereitet werden können und eine adäquate Antwort möglich ist\, bittet Alexander Masthoff um eine vorherige Anmeldung unter der Telefonnummer (05137)828 – 103 mit einer ersten Angabe zum gewünschten Gesprächsthema. \nFür alle Kurzentschlossenen ist eine spontane Teilnahme an dem Austausch natürlich trotzdem möglich.
URL:https://seelze.citynews-online.de/event/buergermeister-alexander-masthoff-vor-ort-in-guemmer-am-04-04-2024/
LOCATION:Feuerwehrhaus Gümmer\, Friesenstraße 1
ATTACH;FMTTYPE=image/jpeg:https://seelze.citynews-online.de/wp-content/uploads/2024/01/DSC01335-1-2.jpg
END:VEVENT
BEGIN:VEVENT
DTSTART;TZID=Europe/Berlin:20240406T100000
DTEND;TZID=Europe/Berlin:20240406T100000
DTSTAMP:20260419T151952
CREATED:20240306T133238Z
LAST-MODIFIED:20240306T133238Z
UID:10000282-1712397600-1712397600@seelze.citynews-online.de
SUMMARY:Aufräumaktion in Harenberg am 06.04.2024 - Sauberkeitstage in Seelzer Ortsteilen
DESCRIPTION:Am Samstag\, 06. April\, ruft der Ortsrat Harenberg alle Harenberger*innen zur Mithilfe beim Säubern der Straßen und Wege im Ort auf. Treffpunkt ist um 10 Uhr am Denkmal vor der Kirche. Nach dem Aufräumen gibt es eine kleine Stärkung. \nSCN/aw
URL:https://seelze.citynews-online.de/event/aufraeumaktion-in-harenberg-am-06-04-2024-sauberkeitstage-in-seelzer-ortsteilen/
LOCATION:Denkmal vor der Kirche\, Harenberg
ATTACH;FMTTYPE=image/jpeg:https://seelze.citynews-online.de/wp-content/uploads/2024/03/garbage-1713777_1280-5.jpg
END:VEVENT
BEGIN:VEVENT
DTSTART;TZID=Europe/Berlin:20240409T080000
DTEND;TZID=Europe/Berlin:20240409T130000
DTSTAMP:20260419T151952
CREATED:20240129T152132Z
LAST-MODIFIED:20240129T152132Z
UID:10000020-1712649600-1712667600@seelze.citynews-online.de
SUMMARY:Wochenmarkt in Seelze am Dienstag
DESCRIPTION:Immer dienstags gibt es hier Obst\, Gemüse\, Wurstspezialitäten\, Blumen etc. \nAn Feiertagen fällt der Markt aus oder wird ggf. verlegt. \n  \n 
URL:https://seelze.citynews-online.de/event/wochenmarkt-in-seelze-am-dienstag/2024-04-09/
LOCATION:Am Kreuzweg\, Am Kreuzweg\, Seelze
ATTACH;FMTTYPE=image/jpeg:https://seelze.citynews-online.de/wp-content/uploads/2024/01/radish-2966482_1280.jpg
END:VEVENT
BEGIN:VEVENT
DTSTART;TZID=Europe/Berlin:20240413T090000
DTEND;TZID=Europe/Berlin:20240413T110000
DTSTAMP:20260419T151952
CREATED:20240306T205114Z
LAST-MODIFIED:20240306T205626Z
UID:10000284-1712998800-1713006000@seelze.citynews-online.de
SUMMARY:Aufräumaktion in Lohnde am 13.04.2024 - Sauberkeitstage in Seelzer Ortsteilen
DESCRIPTION:Der Sauberkeitstag in Lohnde findet am 13. April statt. Treffen ist um 9 Uhr am Bürgerhaus. Handschuhe und Greifzangen sollten die Helfer*innen selber mitbringen. \nSCN/aw
URL:https://seelze.citynews-online.de/event/aufraeumaktion-in-doeteberg-am-13-04-2024-sauberkeitstage-in-seelzer-ortsteilen/
LOCATION:Bürgerhaus Lohnde\, Seelze
ATTACH;FMTTYPE=image/jpeg:https://seelze.citynews-online.de/wp-content/uploads/2024/03/garbage-1713777_1280-8.jpg
END:VEVENT
BEGIN:VEVENT
DTSTART;TZID=Europe/Berlin:20240413T150000
DTEND;TZID=Europe/Berlin:20240413T180000
DTSTAMP:20260419T151952
CREATED:20240404T092707Z
LAST-MODIFIED:20240404T092707Z
UID:10000298-1713020400-1713031200@seelze.citynews-online.de
SUMMARY:Winterschlussbasar vom Seelzer Brotkorb e.V. am 13.04.2024
DESCRIPTION:Der Seelzer Brotkorb e.V. veranstaltet am Samstag\, 13.04.24\, in der Zeit von 15.00 – 18.00 Uhr\, vor der Kleiderausgabe in der Heimstättenstraße 7\, Seelze. einen Winterschlussbasar. Er freut sich über den Besuch aller Seelzerinnen und Seelzer\, die stöbern und gegen eine Spende Bekleidung mitnehmen können.
URL:https://seelze.citynews-online.de/event/winterschlussbasar-vom-seelzer-brotkorb-e-v-am-13-04-2024/
LOCATION:Kleiderausgabe Seelzer Brotkorb e.V.\, Heimstättenstraße 7\, Seeelze
ATTACH;FMTTYPE=image/jpeg:https://seelze.citynews-online.de/wp-content/uploads/2024/04/Basar13.jpeg
END:VEVENT
BEGIN:VEVENT
DTSTART;TZID=Europe/Berlin:20240416T080000
DTEND;TZID=Europe/Berlin:20240416T130000
DTSTAMP:20260419T151952
CREATED:20240129T152132Z
LAST-MODIFIED:20240129T152132Z
UID:10000021-1713254400-1713272400@seelze.citynews-online.de
SUMMARY:Wochenmarkt in Seelze am Dienstag
DESCRIPTION:Immer dienstags gibt es hier Obst\, Gemüse\, Wurstspezialitäten\, Blumen etc. \nAn Feiertagen fällt der Markt aus oder wird ggf. verlegt. \n  \n 
URL:https://seelze.citynews-online.de/event/wochenmarkt-in-seelze-am-dienstag/2024-04-16/
LOCATION:Am Kreuzweg\, Am Kreuzweg\, Seelze
ATTACH;FMTTYPE=image/jpeg:https://seelze.citynews-online.de/wp-content/uploads/2024/01/radish-2966482_1280.jpg
END:VEVENT
BEGIN:VEVENT
DTSTART;TZID=Europe/Berlin:20240420T100000
DTEND;TZID=Europe/Berlin:20240420T133000
DTSTAMP:20260419T151952
CREATED:20240306T133517Z
LAST-MODIFIED:20240306T133517Z
UID:10000283-1713607200-1713619800@seelze.citynews-online.de
SUMMARY:Aufräumaktion in Almhorst am 20.04.2024 - Sauberkeitstage in Seelzer Ortsteilen
DESCRIPTION:Der Sauberkeitstag in Almhorst findet am Samstag\, 20. April\, statt. Hier findet die Aufräumaktion in Vorbereitung auf das Feuerwehrfest im Mai statt. Treffen ist um 10:00 Uhr am Denkmalsplatz. Unterstützt wird die Aktion von der Kinder- und Jugendfeuerwehr. Der Ortsrat sorgt um 12:30 Uhr am Gerätehaus für Getränke und Bratwurst. \nSCN/aw
URL:https://seelze.citynews-online.de/event/aufraeumaktion-in-almhorst-am-20-04-2024-sauberkeitstage-in-seelzer-ortsteilen/
LOCATION:Denkmalsplatz\, Denkmalsplatz\, Seelze
ATTACH;FMTTYPE=image/jpeg:https://seelze.citynews-online.de/wp-content/uploads/2024/03/garbage-1713777_1280-6.jpg
END:VEVENT
BEGIN:VEVENT
DTSTART;TZID=Europe/Berlin:20240423T080000
DTEND;TZID=Europe/Berlin:20240423T130000
DTSTAMP:20260419T151952
CREATED:20240129T152132Z
LAST-MODIFIED:20240129T152132Z
UID:10000022-1713859200-1713877200@seelze.citynews-online.de
SUMMARY:Wochenmarkt in Seelze am Dienstag
DESCRIPTION:Immer dienstags gibt es hier Obst\, Gemüse\, Wurstspezialitäten\, Blumen etc. \nAn Feiertagen fällt der Markt aus oder wird ggf. verlegt. \n  \n 
URL:https://seelze.citynews-online.de/event/wochenmarkt-in-seelze-am-dienstag/2024-04-23/
LOCATION:Am Kreuzweg\, Am Kreuzweg\, Seelze
ATTACH;FMTTYPE=image/jpeg:https://seelze.citynews-online.de/wp-content/uploads/2024/01/radish-2966482_1280.jpg
END:VEVENT
BEGIN:VEVENT
DTSTART;TZID=Europe/Berlin:20240426T190000
DTEND;TZID=Europe/Berlin:20240426T210000
DTSTAMP:20260419T151952
CREATED:20240419T083439Z
LAST-MODIFIED:20240419T083439Z
UID:10000299-1714158000-1714165200@seelze.citynews-online.de
SUMMARY:Comedy und Jubiläumsgala - Kulturinitiative Seelze feiert 30-jähriges Bestehen am 26.04.
DESCRIPTION:Seelze – Comedy und Jubiläumsgala: Zu ihrem 30-jährigen Bestehen gönnt die Kulturinitiative Seelze (KiS) sich und ihrem Publikum etwas ganz Besonderes: \n„Liedgut auf Leergut“ heißt es bei der großen Jubiläumsgala am Freitag\, 26. April\, um 19.30 Uhr mit den Comedy-Musikern von GlasBlasSing. Zwei Kisten Leergut – viel mehr braucht das Berliner Trio GlasBlasSing nicht\, um gute Musik auf die Bühne zu bringen. \nSomit kann sich das Publikum bei der KiS-Jubiläumsgala im Veranstaltungszentrum Alter Krug auf echte Flaschenmusik freuen. Ob kleine Flaschen oder große Flaschen\, ob aus Plastik\, Glas oder Blech – die drei Musiker setzten diese auf wohl jede erdenkliche Weise ein. Sie klopfen\, pusten\, ploppen\, schütteln\, klimpern\, klappern und scheppern! So sorgen  sie  für eine erstaunliche Vielfalt. \nZusätzlich zur virtuosen Musik verspricht die KiS zur Jubiläumsgala ein leckeres Buffet sowie weitere Überraschungen. \nDer Eintritt inklusive des Buffets und der Getränke kostet 45 Euro. Für die Jubiläumsgala sind nur noch wenige Karten verfügbar. Diese sind nur noch bis Dienstag\, 23. April\, und ausschließlich im Vorverkauf bei der Buchhandlung Petri & Waller\, Hannoversche Straße 13a\, oder im Internet unter anderem auf der Seite www.kis-seelze.de beim Ticketanbieter Eventim erhältlich. Eine Abendkasse ist nicht geplant. \nDer Einlass ins im Veranstaltungszentrum Alter Krug\, Hannoversche Straße 15a\, beginnt gegen 18.30 Uhr. \nSCN/aw
URL:https://seelze.citynews-online.de/event/comedy-und-jubilaeumsgala-kulturinitiative-seelze-feiert-30-jaehriges-bestehen-am-26-04/
LOCATION:Veranstaltungszentrum Alter Krug\, Hannoversche Straße 15a\, Seelze\, 30926\, Deutschland
ATTACH;FMTTYPE=image/jpeg:https://seelze.citynews-online.de/wp-content/uploads/2024/04/PM072_19.04.2024_Comedy-und-Jubilaeumsgala-Die-Kulturinitiative-Seelze-feiert-ihr-30-jaehriges-Bestehen-Fotograf-Yves-Sucksdorff-Fotograf-Foto-02-scaled.jpg
END:VEVENT
BEGIN:VEVENT
DTSTART;TZID=Europe/Berlin:20240430T080000
DTEND;TZID=Europe/Berlin:20240430T130000
DTSTAMP:20260419T151952
CREATED:20240129T152132Z
LAST-MODIFIED:20240129T152132Z
UID:10000023-1714464000-1714482000@seelze.citynews-online.de
SUMMARY:Wochenmarkt in Seelze am Dienstag
DESCRIPTION:Immer dienstags gibt es hier Obst\, Gemüse\, Wurstspezialitäten\, Blumen etc. \nAn Feiertagen fällt der Markt aus oder wird ggf. verlegt. \n  \n 
URL:https://seelze.citynews-online.de/event/wochenmarkt-in-seelze-am-dienstag/2024-04-30/
LOCATION:Am Kreuzweg\, Am Kreuzweg\, Seelze
ATTACH;FMTTYPE=image/jpeg:https://seelze.citynews-online.de/wp-content/uploads/2024/01/radish-2966482_1280.jpg
END:VEVENT
END:VCALENDAR