BEGIN:VCALENDAR
VERSION:2.0
PRODID:-//Seelze City News - ECPv6.15.16.1//NONSGML v1.0//EN
CALSCALE:GREGORIAN
METHOD:PUBLISH
X-ORIGINAL-URL:https://seelze.citynews-online.de
X-WR-CALDESC:Veranstaltungen für Seelze City News
REFRESH-INTERVAL;VALUE=DURATION:PT1H
X-Robots-Tag:noindex
X-PUBLISHED-TTL:PT1H
BEGIN:VTIMEZONE
TZID:Europe/Berlin
BEGIN:DAYLIGHT
TZOFFSETFROM:+0100
TZOFFSETTO:+0200
TZNAME:CEST
DTSTART:20230326T010000
END:DAYLIGHT
BEGIN:STANDARD
TZOFFSETFROM:+0200
TZOFFSETTO:+0100
TZNAME:CET
DTSTART:20231029T010000
END:STANDARD
BEGIN:DAYLIGHT
TZOFFSETFROM:+0100
TZOFFSETTO:+0200
TZNAME:CEST
DTSTART:20240331T010000
END:DAYLIGHT
BEGIN:STANDARD
TZOFFSETFROM:+0200
TZOFFSETTO:+0100
TZNAME:CET
DTSTART:20241027T010000
END:STANDARD
BEGIN:DAYLIGHT
TZOFFSETFROM:+0100
TZOFFSETTO:+0200
TZNAME:CEST
DTSTART:20250330T010000
END:DAYLIGHT
BEGIN:STANDARD
TZOFFSETFROM:+0200
TZOFFSETTO:+0100
TZNAME:CET
DTSTART:20251026T010000
END:STANDARD
END:VTIMEZONE
BEGIN:VEVENT
DTSTART;TZID=Europe/Berlin:20240316T100000
DTEND;TZID=Europe/Berlin:20240316T130000
DTSTAMP:20260419T215918
CREATED:20240306T132035Z
LAST-MODIFIED:20240306T132035Z
UID:10000277-1710583200-1710594000@seelze.citynews-online.de
SUMMARY:Aufräumaktion in Dedensen am 16.03.2024 - Sauberkeitstage in Seelzer Ortsteilen
DESCRIPTION:In Dedensen ist um 10 Uhr Treffen an der Heimatscheune\, Altes Dorff 10. Müllsäcke stellt der Ortsrat\, Arbeitshandschuhe und wenn gewünscht Greifzangen sollten selbstständig mitgebracht werden. Im Anschluss an die Aktion laden Ortsrat und Heimatverein ab ca. 12 Uhr zu einem Imbiss und Getränken ein. \nSCN/aw
URL:https://seelze.citynews-online.de/event/aufraeumaktion-in-dedensen-am-16-03-2024-sauberkeitstage-in-seelzer-ortsteilen/
LOCATION:Heimatscheune\, Altes Dorff 10\, Seelze
ATTACH;FMTTYPE=image/jpeg:https://seelze.citynews-online.de/wp-content/uploads/2024/03/garbage-1713777_1280-1.jpg
END:VEVENT
END:VCALENDAR