BEGIN:VCALENDAR
VERSION:2.0
PRODID:-//Seelze City News - ECPv6.15.16.1//NONSGML v1.0//EN
CALSCALE:GREGORIAN
METHOD:PUBLISH
X-ORIGINAL-URL:https://seelze.citynews-online.de
X-WR-CALDESC:Veranstaltungen für Seelze City News
REFRESH-INTERVAL;VALUE=DURATION:PT1H
X-Robots-Tag:noindex
X-PUBLISHED-TTL:PT1H
BEGIN:VTIMEZONE
TZID:Europe/Berlin
BEGIN:DAYLIGHT
TZOFFSETFROM:+0100
TZOFFSETTO:+0200
TZNAME:CEST
DTSTART:20230326T010000
END:DAYLIGHT
BEGIN:STANDARD
TZOFFSETFROM:+0200
TZOFFSETTO:+0100
TZNAME:CET
DTSTART:20231029T010000
END:STANDARD
BEGIN:DAYLIGHT
TZOFFSETFROM:+0100
TZOFFSETTO:+0200
TZNAME:CEST
DTSTART:20240331T010000
END:DAYLIGHT
BEGIN:STANDARD
TZOFFSETFROM:+0200
TZOFFSETTO:+0100
TZNAME:CET
DTSTART:20241027T010000
END:STANDARD
BEGIN:DAYLIGHT
TZOFFSETFROM:+0100
TZOFFSETTO:+0200
TZNAME:CEST
DTSTART:20250330T010000
END:DAYLIGHT
BEGIN:STANDARD
TZOFFSETFROM:+0200
TZOFFSETTO:+0100
TZNAME:CET
DTSTART:20251026T010000
END:STANDARD
END:VTIMEZONE
BEGIN:VEVENT
DTSTART;TZID=Europe/Berlin:20240316T110000
DTEND;TZID=Europe/Berlin:20240316T110000
DTSTAMP:20260419T221353
CREATED:20240306T132717Z
LAST-MODIFIED:20240306T132717Z
UID:10000280-1710586800-1710586800@seelze.citynews-online.de
SUMMARY:Aufräumaktion in Letter am 16.03.2024 - Sauberkeitstage in Seelzer Ortsteilen
DESCRIPTION:In Letter beginnt die Aufräumaktion um 11 Uhr am Kastanienplatz. \nSCN/aw
URL:https://seelze.citynews-online.de/event/aufraeumaktion-in-letter-am-16-03-2024-sauberkeitstage-in-seelzer-ortsteilen/
LOCATION:Kastanienplaz\, Kastanienplatz\, Seelze
ATTACH;FMTTYPE=image/jpeg:https://seelze.citynews-online.de/wp-content/uploads/2024/03/garbage-1713777_1280-3.jpg
END:VEVENT
END:VCALENDAR